BEGIN:VCALENDAR
VERSION:2.0
PRODID:-//Cherry City VFC - ECPv6.15.20//NONSGML v1.0//EN
CALSCALE:GREGORIAN
METHOD:PUBLISH
X-WR-CALNAME:Cherry City VFC
X-ORIGINAL-URL:https://cherrycityvfc.org
X-WR-CALDESC:Events for Cherry City VFC
REFRESH-INTERVAL;VALUE=DURATION:PT1H
X-Robots-Tag:noindex
X-PUBLISHED-TTL:PT1H
BEGIN:VTIMEZONE
TZID:America/New_York
BEGIN:DAYLIGHT
TZOFFSETFROM:-0500
TZOFFSETTO:-0400
TZNAME:EDT
DTSTART:20250309T070000
END:DAYLIGHT
BEGIN:STANDARD
TZOFFSETFROM:-0400
TZOFFSETTO:-0500
TZNAME:EST
DTSTART:20251102T060000
END:STANDARD
BEGIN:DAYLIGHT
TZOFFSETFROM:-0500
TZOFFSETTO:-0400
TZNAME:EDT
DTSTART:20260308T070000
END:DAYLIGHT
BEGIN:STANDARD
TZOFFSETFROM:-0400
TZOFFSETTO:-0500
TZNAME:EST
DTSTART:20261101T060000
END:STANDARD
BEGIN:DAYLIGHT
TZOFFSETFROM:-0500
TZOFFSETTO:-0400
TZNAME:EDT
DTSTART:20270314T070000
END:DAYLIGHT
BEGIN:STANDARD
TZOFFSETFROM:-0400
TZOFFSETTO:-0500
TZNAME:EST
DTSTART:20271107T060000
END:STANDARD
END:VTIMEZONE
BEGIN:VEVENT
DTSTART;TZID=America/New_York:20260423T170000
DTEND;TZID=America/New_York:20260423T170000
DTSTAMP:20260423T080629
CREATED:20260213T155644Z
LAST-MODIFIED:20260213T155647Z
UID:16802-1776963600-1776963600@cherrycityvfc.org
SUMMARY:Bingo
DESCRIPTION:
URL:https://cherrycityvfc.org/event/bingo-12/
LOCATION:Cherry City VFC\, 309 Davis Ave\, Millvale\, PA\, 15209\, United States
CATEGORIES:Event
END:VEVENT
BEGIN:VEVENT
DTSTART;TZID=America/New_York:20260428T173000
DTEND;TZID=America/New_York:20260428T173000
DTSTAMP:20260423T080629
CREATED:20260213T155907Z
LAST-MODIFIED:20260213T155910Z
UID:16812-1777397400-1777397400@cherrycityvfc.org
SUMMARY:Firefighter Training
DESCRIPTION:
URL:https://cherrycityvfc.org/event/firefighter-training-43/
LOCATION:Cherry City VFC\, 309 Davis Ave\, Millvale\, PA\, 15209\, United States
CATEGORIES:Training
END:VEVENT
BEGIN:VEVENT
DTSTART;TZID=America/New_York:20260430T170000
DTEND;TZID=America/New_York:20260430T170000
DTSTAMP:20260423T080629
CREATED:20260213T155709Z
LAST-MODIFIED:20260213T155712Z
UID:16804-1777568400-1777568400@cherrycityvfc.org
SUMMARY:Bingo
DESCRIPTION:
URL:https://cherrycityvfc.org/event/bingo-13/
LOCATION:Cherry City VFC\, 309 Davis Ave\, Millvale\, PA\, 15209\, United States
CATEGORIES:Event
END:VEVENT
END:VCALENDAR